BEGIN:VCALENDAR
VERSION:2.0
PRODID:-//Bingley St Ives Golf Club - ECPv6.15.11//NONSGML v1.0//EN
CALSCALE:GREGORIAN
METHOD:PUBLISH
X-WR-CALNAME:Bingley St Ives Golf Club
X-ORIGINAL-URL:https://bingleystivesgc.com
X-WR-CALDESC:Events for Bingley St Ives Golf Club
REFRESH-INTERVAL;VALUE=DURATION:PT1H
X-Robots-Tag:noindex
X-PUBLISHED-TTL:PT1H
BEGIN:VTIMEZONE
TZID:UTC
BEGIN:STANDARD
TZOFFSETFROM:+0000
TZOFFSETTO:+0000
TZNAME:UTC
DTSTART:20230101T000000
END:STANDARD
END:VTIMEZONE
BEGIN:VEVENT
DTSTART;TZID=UTC:20241130T183000
DTEND;TZID=UTC:20241130T233000
DTSTAMP:20260419T121736
CREATED:20240926T065716Z
LAST-MODIFIED:20240926T065716Z
UID:7853-1732991400-1733009400@bingleystivesgc.com
SUMMARY:Private Event
DESCRIPTION:NHS Xmas Party x 100
URL:https://bingleystivesgc.com/event/private-event-249/
CATEGORIES:Private Event
END:VEVENT
BEGIN:VEVENT
DTSTART;TZID=UTC:20241123T183000
DTEND;TZID=UTC:20241123T233000
DTSTAMP:20260419T121736
CREATED:20231124T113125Z
LAST-MODIFIED:20231214T121156Z
UID:7200-1732386600-1732404600@bingleystivesgc.com
SUMMARY:Harden Cricket Club Dinner
DESCRIPTION:x 80
URL:https://bingleystivesgc.com/event/harden-cricket-club-dinner-2/
CATEGORIES:Private Event
END:VEVENT
BEGIN:VEVENT
DTSTART;TZID=UTC:20241122T183000
DTEND;TZID=UTC:20241122T233000
DTSTAMP:20260419T121736
CREATED:20231124T113236Z
LAST-MODIFIED:20231124T113333Z
UID:7202-1732300200-1732318200@bingleystivesgc.com
SUMMARY:IMAS Party
DESCRIPTION:Private Event
URL:https://bingleystivesgc.com/event/imas-party/
CATEGORIES:Private Event
END:VEVENT
BEGIN:VEVENT
DTSTART;TZID=UTC:20241116T180000
DTEND;TZID=UTC:20241116T233000
DTSTAMP:20260419T121736
CREATED:20231124T112743Z
LAST-MODIFIED:20231214T121332Z
UID:7196-1731780000-1731799800@bingleystivesgc.com
SUMMARY:Private Event
DESCRIPTION:Cullingworth CC Dinner
URL:https://bingleystivesgc.com/event/private-event-192/
CATEGORIES:Private Event
END:VEVENT
BEGIN:VEVENT
DTSTART;TZID=UTC:20241116T130000
DTEND;TZID=UTC:20241116T163000
DTSTAMP:20260419T121736
CREATED:20240926T065507Z
LAST-MODIFIED:20240926T065507Z
UID:7849-1731762000-1731774600@bingleystivesgc.com
SUMMARY:Private Event
DESCRIPTION:John “Jock” Cowan – 90th birthday lunch x 30
URL:https://bingleystivesgc.com/event/private-event-248/
CATEGORIES:Private Event
END:VEVENT
BEGIN:VEVENT
DTSTART;TZID=UTC:20241109T183000
DTEND;TZID=UTC:20241109T233000
DTSTAMP:20260419T121736
CREATED:20230929T105825Z
LAST-MODIFIED:20230929T105825Z
UID:6564-1731177000-1731195000@bingleystivesgc.com
SUMMARY:Private Event
DESCRIPTION:Lodge Dinner x 50
URL:https://bingleystivesgc.com/event/private-event-151/
CATEGORIES:Private Event
END:VEVENT
BEGIN:VEVENT
DTSTART;TZID=UTC:20241108T183000
DTEND;TZID=UTC:20241108T233000
DTSTAMP:20260419T121736
CREATED:20231124T112942Z
LAST-MODIFIED:20240926T065307Z
UID:7198-1731090600-1731108600@bingleystivesgc.com
SUMMARY:Private Event
DESCRIPTION:Crossflatts Cricket Club x 80
URL:https://bingleystivesgc.com/event/gents-end-of-season-dinner-6/
CATEGORIES:Private Event
END:VEVENT
BEGIN:VEVENT
DTSTART;TZID=UTC:20241101T183000
DTEND;TZID=UTC:20241101T230000
DTSTAMP:20260419T121736
CREATED:20240926T065142Z
LAST-MODIFIED:20240926T065142Z
UID:7846-1730485800-1730502000@bingleystivesgc.com
SUMMARY:Private Event
DESCRIPTION:Cullingworth Bowling Club x 50
URL:https://bingleystivesgc.com/event/private-event-247/
CATEGORIES:Private Event
END:VEVENT
BEGIN:VEVENT
DTSTART;TZID=UTC:20241101T130000
DTEND;TZID=UTC:20241101T163000
DTSTAMP:20260419T121736
CREATED:20240926T065041Z
LAST-MODIFIED:20240926T065041Z
UID:7844-1730466000-1730478600@bingleystivesgc.com
SUMMARY:Private Event
DESCRIPTION:Bradford Model Engineering Society – Lunch x 40
URL:https://bingleystivesgc.com/event/private-event-246/
CATEGORIES:Private Event
END:VEVENT
BEGIN:VEVENT
DTSTART;TZID=UTC:20241026T123000
DTEND;TZID=UTC:20241026T180000
DTSTAMP:20260419T121736
CREATED:20240926T064851Z
LAST-MODIFIED:20240926T064851Z
UID:7842-1729945800-1729965600@bingleystivesgc.com
SUMMARY:Private Event
DESCRIPTION:Birthday x 70
URL:https://bingleystivesgc.com/event/private-event-183/
CATEGORIES:Private Event
END:VEVENT
BEGIN:VEVENT
DTSTART;TZID=UTC:20241025T123000
DTEND;TZID=UTC:20241025T170000
DTSTAMP:20260419T121736
CREATED:20240719T094553Z
LAST-MODIFIED:20240719T094553Z
UID:7705-1729859400-1729875600@bingleystivesgc.com
SUMMARY:Private Event
DESCRIPTION:Slinningford Bowling Club – Maggie Hill x 30/35
URL:https://bingleystivesgc.com/event/private-event-235/
CATEGORIES:Private Event
END:VEVENT
BEGIN:VEVENT
DTSTART;TZID=UTC:20241019T180000
DTEND;TZID=UTC:20241019T233000
DTSTAMP:20260419T121736
CREATED:20240319T082335Z
LAST-MODIFIED:20240319T082335Z
UID:7582-1729360800-1729380600@bingleystivesgc.com
SUMMARY:Private Event
DESCRIPTION:Wedding Celebration x 80
URL:https://bingleystivesgc.com/event/private-event-222/
CATEGORIES:Private Event
END:VEVENT
BEGIN:VEVENT
DTSTART;TZID=UTC:20241012T190000
DTEND;TZID=UTC:20241012T233000
DTSTAMP:20260419T121736
CREATED:20240319T082145Z
LAST-MODIFIED:20240319T082145Z
UID:7580-1728759600-1728775800@bingleystivesgc.com
SUMMARY:Private Event
DESCRIPTION:Gilbert & Sullivan Dinner Party x 45
URL:https://bingleystivesgc.com/event/private-event-221/
CATEGORIES:Private Event
END:VEVENT
BEGIN:VEVENT
DTSTART;TZID=UTC:20241005T140000
DTEND;TZID=UTC:20241005T233000
DTSTAMP:20260419T121736
CREATED:20230929T110510Z
LAST-MODIFIED:20230929T110510Z
UID:6566-1728136800-1728171000@bingleystivesgc.com
SUMMARY:Private Event
DESCRIPTION:Wedding – Fawbert 30 plus 110
URL:https://bingleystivesgc.com/event/private-event-152/
CATEGORIES:Private Event
END:VEVENT
BEGIN:VEVENT
DTSTART;TZID=UTC:20241004T180000
DTEND;TZID=UTC:20241004T233000
DTSTAMP:20260419T121736
CREATED:20231115T125544Z
LAST-MODIFIED:20231115T125544Z
UID:7155-1728064800-1728084600@bingleystivesgc.com
SUMMARY:Private Event
DESCRIPTION:Bradford Rabbits Annual Dinner x 90
URL:https://bingleystivesgc.com/event/private-event-184/
CATEGORIES:Private Event
END:VEVENT
BEGIN:VEVENT
DTSTART;TZID=UTC:20240928T190000
DTEND;TZID=UTC:20240928T233000
DTSTAMP:20260419T121736
CREATED:20240110T072851Z
LAST-MODIFIED:20240110T072851Z
UID:7366-1727550000-1727566200@bingleystivesgc.com
SUMMARY:Private Event
DESCRIPTION:Gabbittas x 80
URL:https://bingleystivesgc.com/event/private-event-198/
CATEGORIES:Private Event
END:VEVENT
BEGIN:VEVENT
DTSTART;TZID=UTC:20240921T160000
DTEND;TZID=UTC:20240921T223000
DTSTAMP:20260419T121736
CREATED:20240209T143209Z
LAST-MODIFIED:20240209T143209Z
UID:7512-1726934400-1726957800@bingleystivesgc.com
SUMMARY:Private Event
DESCRIPTION:90th Birthday – Anne Clarke – x 50
URL:https://bingleystivesgc.com/event/private-event-213/
CATEGORIES:Private Event
END:VEVENT
BEGIN:VEVENT
DTSTART;TZID=UTC:20240914T120000
DTEND;TZID=UTC:20240914T163000
DTSTAMP:20260419T121736
CREATED:20240819T124804Z
LAST-MODIFIED:20240819T124804Z
UID:7762-1726315200-1726331400@bingleystivesgc.com
SUMMARY:Private Event
DESCRIPTION:Baby Shower x 25 G Smith member
URL:https://bingleystivesgc.com/event/private-event-242/
CATEGORIES:Private Event
END:VEVENT
BEGIN:VEVENT
DTSTART;TZID=UTC:20240831T123000
DTEND;TZID=UTC:20240831T233000
DTSTAMP:20260419T121736
CREATED:20231030T120203Z
LAST-MODIFIED:20231030T120203Z
UID:6847-1725107400-1725147000@bingleystivesgc.com
SUMMARY:Private Event
DESCRIPTION:Wedding
URL:https://bingleystivesgc.com/event/private-event-180/
CATEGORIES:Private Event
END:VEVENT
BEGIN:VEVENT
DTSTART;TZID=UTC:20240824T180000
DTEND;TZID=UTC:20240824T233000
DTSTAMP:20260419T121736
CREATED:20231030T115813Z
LAST-MODIFIED:20231030T115813Z
UID:6841-1724522400-1724542200@bingleystivesgc.com
SUMMARY:Private Event
DESCRIPTION:60th Birthday
URL:https://bingleystivesgc.com/event/private-event-179/
CATEGORIES:Private Event
END:VEVENT
BEGIN:VEVENT
DTSTART;TZID=UTC:20240817T130000
DTEND;TZID=UTC:20240817T233000
DTSTAMP:20260419T121736
CREATED:20231030T112903Z
LAST-MODIFIED:20231030T112903Z
UID:6835-1723899600-1723937400@bingleystivesgc.com
SUMMARY:Private Event
DESCRIPTION:Wedding from 1pm
URL:https://bingleystivesgc.com/event/private-event-178/
CATEGORIES:Private Event
END:VEVENT
BEGIN:VEVENT
DTSTART;TZID=UTC:20240817T130000
DTEND;TZID=UTC:20240817T233000
DTSTAMP:20260419T121736
CREATED:20231023T141414Z
LAST-MODIFIED:20231023T141414Z
UID:6653-1723899600-1723937400@bingleystivesgc.com
SUMMARY:Private Event
DESCRIPTION:Wedding x 60
URL:https://bingleystivesgc.com/event/private-event-163/
CATEGORIES:Private Event
END:VEVENT
BEGIN:VEVENT
DTSTART;TZID=UTC:20240810T123000
DTEND;TZID=UTC:20240810T163000
DTSTAMP:20260419T121736
CREATED:20240801T083256Z
LAST-MODIFIED:20240801T083256Z
UID:7726-1723293000-1723307400@bingleystivesgc.com
SUMMARY:Private Event
DESCRIPTION:Dean – Lunch x 25
URL:https://bingleystivesgc.com/event/private-event-239/
CATEGORIES:Private Event
END:VEVENT
BEGIN:VEVENT
DTSTART;TZID=UTC:20240803T190000
DTEND;TZID=UTC:20240803T233000
DTSTAMP:20260419T121736
CREATED:20240209T141129Z
LAST-MODIFIED:20240409T110920Z
UID:7493-1722711600-1722727800@bingleystivesgc.com
SUMMARY:Private Event
DESCRIPTION:Party – TBC – Jadine Smith x 100
URL:https://bingleystivesgc.com/event/private-event-212/
CATEGORIES:Private Event
END:VEVENT
BEGIN:VEVENT
DTSTART;TZID=UTC:20240801T130000
DTEND;TZID=UTC:20240801T153000
DTSTAMP:20260419T121736
CREATED:20240226T115231Z
LAST-MODIFIED:20240226T115231Z
UID:7538-1722517200-1722526200@bingleystivesgc.com
SUMMARY:Yorkshire Day
DESCRIPTION:Paul Sullivan x 40
URL:https://bingleystivesgc.com/event/yorkshire-day/
CATEGORIES:Private Event
END:VEVENT
BEGIN:VEVENT
DTSTART;TZID=UTC:20240720T183000
DTEND;TZID=UTC:20240720T233000
DTSTAMP:20260419T121736
CREATED:20240105T081328Z
LAST-MODIFIED:20240105T081328Z
UID:7316-1721500200-1721518200@bingleystivesgc.com
SUMMARY:Private Event
DESCRIPTION:John Hagerty x 70
URL:https://bingleystivesgc.com/event/private-event-197/
CATEGORIES:Private Event
END:VEVENT
BEGIN:VEVENT
DTSTART;TZID=UTC:20240715T180000
DTEND;TZID=UTC:20240715T210000
DTSTAMP:20260419T121736
CREATED:20240212T104439Z
LAST-MODIFIED:20240212T104439Z
UID:7517-1721066400-1721077200@bingleystivesgc.com
SUMMARY:Private Event
DESCRIPTION:Harden Primary School x 65 presentation Year 6 and Disco
URL:https://bingleystivesgc.com/event/private-event-214/
CATEGORIES:Private Event
END:VEVENT
BEGIN:VEVENT
DTSTART;TZID=UTC:20240715T180000
DTEND;TZID=UTC:20240715T200000
DTSTAMP:20260419T121736
CREATED:20240209T140455Z
LAST-MODIFIED:20240209T140455Z
UID:7491-1721066400-1721073600@bingleystivesgc.com
SUMMARY:Private Event
DESCRIPTION:Presentation & Party – Harden Primary School
URL:https://bingleystivesgc.com/event/private-event-211/
CATEGORIES:Private Event
END:VEVENT
BEGIN:VEVENT
DTSTART;TZID=UTC:20240706T170000
DTEND;TZID=UTC:20240706T233000
DTSTAMP:20260419T121736
CREATED:20240126T111348Z
LAST-MODIFIED:20240126T111348Z
UID:7427-1720285200-1720308600@bingleystivesgc.com
SUMMARY:Private Event
DESCRIPTION:Wedding – Busfield x 130
URL:https://bingleystivesgc.com/event/private-event-203/
CATEGORIES:Private Event
END:VEVENT
BEGIN:VEVENT
DTSTART;TZID=UTC:20240629T123000
DTEND;TZID=UTC:20240629T233000
DTSTAMP:20260419T121736
CREATED:20231117T113036Z
LAST-MODIFIED:20231117T113036Z
UID:7180-1719664200-1719703800@bingleystivesgc.com
SUMMARY:Private Event
DESCRIPTION:Wedding – Fran & Dave x 70
URL:https://bingleystivesgc.com/event/private-event-189/
CATEGORIES:Private Event
END:VEVENT
END:VCALENDAR