BEGIN:VCALENDAR
VERSION:2.0
PRODID:-//Bingley St Ives Golf Club - ECPv6.15.11//NONSGML v1.0//EN
CALSCALE:GREGORIAN
METHOD:PUBLISH
X-ORIGINAL-URL:https://bingleystivesgc.com
X-WR-CALDESC:Events for Bingley St Ives Golf Club
REFRESH-INTERVAL;VALUE=DURATION:PT1H
X-Robots-Tag:noindex
X-PUBLISHED-TTL:PT1H
BEGIN:VTIMEZONE
TZID:UTC
BEGIN:STANDARD
TZOFFSETFROM:+0000
TZOFFSETTO:+0000
TZNAME:UTC
DTSTART:20190101T000000
END:STANDARD
END:VTIMEZONE
BEGIN:VEVENT
DTSTART;VALUE=DATE:20201101
DTEND;VALUE=DATE:20201102
DTSTAMP:20260421T033536
CREATED:20200220T071440Z
LAST-MODIFIED:20200220T071440Z
UID:2324-1604188800-1604275199@bingleystivesgc.com
SUMMARY:Ladies Competition - Captain v Vice-Captain
DESCRIPTION:
URL:https://bingleystivesgc.com/event/ladies-competition-captain-v-vice-captain/
CATEGORIES:Golf
END:VEVENT
BEGIN:VEVENT
DTSTART;VALUE=DATE:20201106
DTEND;VALUE=DATE:20201107
DTSTAMP:20260421T033536
CREATED:20200120T112959Z
LAST-MODIFIED:20200120T112959Z
UID:1580-1604620800-1604707199@bingleystivesgc.com
SUMMARY:End of Season Dinner
DESCRIPTION:
URL:https://bingleystivesgc.com/event/end-of-season-dinner/
LOCATION:BIngley St Ives Golf Club\, St. Ives Estate\, Bingley\, West Yorkshire\, BD16 1AT\, United Kingdom
CATEGORIES:Golf
END:VEVENT
BEGIN:VEVENT
DTSTART;TZID=UTC:20201106T190000
DTEND;TZID=UTC:20201106T233000
DTSTAMP:20260421T033536
CREATED:20200220T075023Z
LAST-MODIFIED:20200220T075023Z
UID:2393-1604689200-1604705400@bingleystivesgc.com
SUMMARY:Gents End of Season Dinner
DESCRIPTION:
URL:https://bingleystivesgc.com/event/gents-end-of-season-dinner/
CATEGORIES:Golf
END:VEVENT
BEGIN:VEVENT
DTSTART;VALUE=DATE:20201107
DTEND;VALUE=DATE:20201108
DTSTAMP:20260421T033536
CREATED:20200220T075054Z
LAST-MODIFIED:20200220T075054Z
UID:2395-1604707200-1604793599@bingleystivesgc.com
SUMMARY:Gents Winter Grand Prix
DESCRIPTION:
URL:https://bingleystivesgc.com/event/gents-winter-grand-prix-6/
CATEGORIES:Golf
END:VEVENT
BEGIN:VEVENT
DTSTART;TZID=UTC:20201107T190000
DTEND;TZID=UTC:20201107T190000
DTSTAMP:20260421T033536
CREATED:20200220T075145Z
LAST-MODIFIED:20200220T075145Z
UID:2397-1604775600-1604775600@bingleystivesgc.com
SUMMARY:Private Event
DESCRIPTION:Private Event – Harden Cricket Club Dinner
URL:https://bingleystivesgc.com/event/private-event-11/
CATEGORIES:Private Event
END:VEVENT
BEGIN:VEVENT
DTSTART;TZID=UTC:20201113T190000
DTEND;TZID=UTC:20201113T190000
DTSTAMP:20260421T033536
CREATED:20200220T075241Z
LAST-MODIFIED:20200220T075241Z
UID:2399-1605294000-1605294000@bingleystivesgc.com
SUMMARY:Private Event
DESCRIPTION:Private Event – Myrtle Park Annual Dinner
URL:https://bingleystivesgc.com/event/private-event-12/
CATEGORIES:Private Event
END:VEVENT
BEGIN:VEVENT
DTSTART;VALUE=DATE:20201114
DTEND;VALUE=DATE:20201115
DTSTAMP:20260421T033536
CREATED:20200120T113702Z
LAST-MODIFIED:20200120T113702Z
UID:1594-1605312000-1605398399@bingleystivesgc.com
SUMMARY:Final Fling
DESCRIPTION:
URL:https://bingleystivesgc.com/event/final-fling/
LOCATION:BIngley St Ives Golf Club\, St. Ives Estate\, Bingley\, West Yorkshire\, BD16 1AT\, United Kingdom
CATEGORIES:Social
END:VEVENT
BEGIN:VEVENT
DTSTART;TZID=UTC:20201114T080000
DTEND;TZID=UTC:20201114T170000
DTSTAMP:20260421T033536
CREATED:20200220T075326Z
LAST-MODIFIED:20200220T075326Z
UID:2401-1605340800-1605373200@bingleystivesgc.com
SUMMARY:Private Event
DESCRIPTION:Private Event – Final Fling
URL:https://bingleystivesgc.com/event/private-event-13/
CATEGORIES:Social
END:VEVENT
BEGIN:VEVENT
DTSTART;TZID=UTC:20201120T190000
DTEND;TZID=UTC:20201120T190000
DTSTAMP:20260421T033536
CREATED:20200220T075422Z
LAST-MODIFIED:20200220T075422Z
UID:2403-1605898800-1605898800@bingleystivesgc.com
SUMMARY:Private Event
DESCRIPTION:Private Event – Cullingworth Bowling Club Dinner
URL:https://bingleystivesgc.com/event/private-event-14/
CATEGORIES:Private Event
END:VEVENT
BEGIN:VEVENT
DTSTART;VALUE=DATE:20201121
DTEND;VALUE=DATE:20201122
DTSTAMP:20260421T033536
CREATED:20200220T075510Z
LAST-MODIFIED:20200220T075510Z
UID:2405-1605916800-1606003199@bingleystivesgc.com
SUMMARY:Gents Winter Grand Prix
DESCRIPTION:
URL:https://bingleystivesgc.com/event/gents-winter-grand-prix-7/
CATEGORIES:Golf
END:VEVENT
BEGIN:VEVENT
DTSTART;TZID=UTC:20201121T080000
DTEND;TZID=UTC:20201121T170000
DTSTAMP:20260421T033536
CREATED:20200220T075551Z
LAST-MODIFIED:20200220T075551Z
UID:2407-1605945600-1605978000@bingleystivesgc.com
SUMMARY:Private Event
DESCRIPTION:Private Event – 50th Birthday
URL:https://bingleystivesgc.com/event/private-event-15/
CATEGORIES:Private Event
END:VEVENT
BEGIN:VEVENT
DTSTART;TZID=UTC:20201127T190000
DTEND;TZID=UTC:20201127T190000
DTSTAMP:20260421T033536
CREATED:20200220T075814Z
LAST-MODIFIED:20200220T075814Z
UID:2409-1606503600-1606503600@bingleystivesgc.com
SUMMARY:Ladies Section Christmas Party
DESCRIPTION:
URL:https://bingleystivesgc.com/event/ladies-section-christmas-party/
CATEGORIES:Private Event
END:VEVENT
END:VCALENDAR