BEGIN:VCALENDAR
VERSION:2.0
PRODID:-//Bingley St Ives Golf Club - ECPv6.15.11//NONSGML v1.0//EN
CALSCALE:GREGORIAN
METHOD:PUBLISH
X-WR-CALNAME:Bingley St Ives Golf Club
X-ORIGINAL-URL:https://bingleystivesgc.com
X-WR-CALDESC:Events for Bingley St Ives Golf Club
REFRESH-INTERVAL;VALUE=DURATION:PT1H
X-Robots-Tag:noindex
X-PUBLISHED-TTL:PT1H
BEGIN:VTIMEZONE
TZID:UTC
BEGIN:STANDARD
TZOFFSETFROM:+0000
TZOFFSETTO:+0000
TZNAME:UTC
DTSTART:20190101T000000
END:STANDARD
END:VTIMEZONE
BEGIN:VEVENT
DTSTART;TZID=UTC:20201204T190000
DTEND;TZID=UTC:20201204T190000
DTSTAMP:20260421T093342
CREATED:20200220T075942Z
LAST-MODIFIED:20200220T075958Z
UID:2411-1607108400-1607108400@bingleystivesgc.com
SUMMARY:Private Event
DESCRIPTION:Private Event- Christmas Party
URL:https://bingleystivesgc.com/event/private-event-16/
CATEGORIES:Private Event
END:VEVENT
BEGIN:VEVENT
DTSTART;VALUE=DATE:20201205
DTEND;VALUE=DATE:20201206
DTSTAMP:20260421T093342
CREATED:20200120T113807Z
LAST-MODIFIED:20200120T113807Z
UID:1596-1607126400-1607212799@bingleystivesgc.com
SUMMARY:Christmas Brass Band Concert
DESCRIPTION:
URL:https://bingleystivesgc.com/event/christmas-brass-band-concert/
LOCATION:BIngley St Ives Golf Club\, St. Ives Estate\, Bingley\, West Yorkshire\, BD16 1AT\, United Kingdom
CATEGORIES:Social
END:VEVENT
BEGIN:VEVENT
DTSTART;VALUE=DATE:20201205
DTEND;VALUE=DATE:20201206
DTSTAMP:20260421T093342
CREATED:20200220T080033Z
LAST-MODIFIED:20200220T080033Z
UID:2413-1607126400-1607212799@bingleystivesgc.com
SUMMARY:Gents Winter Grand Prix
DESCRIPTION:
URL:https://bingleystivesgc.com/event/gents-winter-grand-prix-8/
CATEGORIES:Golf
END:VEVENT
BEGIN:VEVENT
DTSTART;TZID=UTC:20201205T193000
DTEND;TZID=UTC:20201205T193000
DTSTAMP:20260421T093342
CREATED:20200220T080241Z
LAST-MODIFIED:20200220T080241Z
UID:2415-1607196600-1607196600@bingleystivesgc.com
SUMMARY:Social Event - Brass Band Concert
DESCRIPTION:City of Bradford Christmas Concert \nBook your places at the club bar
URL:https://bingleystivesgc.com/event/social-event-brass-band-concert-2/
CATEGORIES:Social
END:VEVENT
BEGIN:VEVENT
DTSTART;TZID=UTC:20201208T190000
DTEND;TZID=UTC:20201208T190000
DTSTAMP:20260421T093342
CREATED:20200220T080346Z
LAST-MODIFIED:20200220T080346Z
UID:2417-1607454000-1607454000@bingleystivesgc.com
SUMMARY:Private Event
DESCRIPTION:Private Event – Wilsden WI Dinner
URL:https://bingleystivesgc.com/event/private-event-17/
CATEGORIES:Private Event
END:VEVENT
BEGIN:VEVENT
DTSTART;VALUE=DATE:20201212
DTEND;VALUE=DATE:20201213
DTSTAMP:20260421T093342
CREATED:20200120T113911Z
LAST-MODIFIED:20200120T113911Z
UID:1598-1607731200-1607817599@bingleystivesgc.com
SUMMARY:Members Christmas Party
DESCRIPTION:
URL:https://bingleystivesgc.com/event/members-christmas-party/
LOCATION:BIngley St Ives Golf Club\, St. Ives Estate\, Bingley\, West Yorkshire\, BD16 1AT\, United Kingdom
CATEGORIES:Social
END:VEVENT
BEGIN:VEVENT
DTSTART;TZID=UTC:20201212T080000
DTEND;TZID=UTC:20201212T170000
DTSTAMP:20260421T093342
CREATED:20200220T080425Z
LAST-MODIFIED:20200220T080425Z
UID:2419-1607760000-1607792400@bingleystivesgc.com
SUMMARY:Social Event - Members Christmas Party
DESCRIPTION:
URL:https://bingleystivesgc.com/event/social-event-members-christmas-party/
CATEGORIES:Social
END:VEVENT
BEGIN:VEVENT
DTSTART;TZID=UTC:20201219T183000
DTEND;TZID=UTC:20201219T183000
DTSTAMP:20260421T093342
CREATED:20200220T080520Z
LAST-MODIFIED:20200220T080520Z
UID:2421-1608402600-1608402600@bingleystivesgc.com
SUMMARY:Private Event
DESCRIPTION:Private event – Christmas Party
URL:https://bingleystivesgc.com/event/private-event-18/
CATEGORIES:Private Event
END:VEVENT
BEGIN:VEVENT
DTSTART;TZID=UTC:20201226T090000
DTEND;TZID=UTC:20201226T130000
DTSTAMP:20260421T093342
CREATED:20200220T080635Z
LAST-MODIFIED:20200220T080635Z
UID:2423-1608973200-1608987600@bingleystivesgc.com
SUMMARY:Boxing Day Shotgun Competition
DESCRIPTION:Start time 9am
URL:https://bingleystivesgc.com/event/boxing-day-shotgun-competition/
CATEGORIES:Golf
END:VEVENT
BEGIN:VEVENT
DTSTART;TZID=UTC:20201230T080000
DTEND;TZID=UTC:20201230T170000
DTSTAMP:20260421T093342
CREATED:20200220T080727Z
LAST-MODIFIED:20200220T080727Z
UID:2425-1609315200-1609347600@bingleystivesgc.com
SUMMARY:Private Event
DESCRIPTION:Private event
URL:https://bingleystivesgc.com/event/private-event-19/
CATEGORIES:Private Event
END:VEVENT
BEGIN:VEVENT
DTSTART;VALUE=DATE:20201231
DTEND;VALUE=DATE:20210101
DTSTAMP:20260421T093342
CREATED:20200120T114030Z
LAST-MODIFIED:20200120T114030Z
UID:1600-1609372800-1609459199@bingleystivesgc.com
SUMMARY:New Years Eve Party
DESCRIPTION:
URL:https://bingleystivesgc.com/event/new-years-eve-party/
LOCATION:BIngley St Ives Golf Club\, St. Ives Estate\, Bingley\, West Yorkshire\, BD16 1AT\, United Kingdom
CATEGORIES:Social
END:VEVENT
BEGIN:VEVENT
DTSTART;TZID=UTC:20201231T200000
DTEND;TZID=UTC:20201231T200000
DTSTAMP:20260421T093342
CREATED:20200220T080804Z
LAST-MODIFIED:20200220T080804Z
UID:2427-1609444800-1609444800@bingleystivesgc.com
SUMMARY:New Years Eve Party
DESCRIPTION:
URL:https://bingleystivesgc.com/event/new-years-eve-party-2/
CATEGORIES:Social
END:VEVENT
END:VCALENDAR