BEGIN:VCALENDAR
VERSION:2.0
PRODID:-//Bingley St Ives Golf Club - ECPv6.15.11//NONSGML v1.0//EN
CALSCALE:GREGORIAN
METHOD:PUBLISH
X-WR-CALNAME:Bingley St Ives Golf Club
X-ORIGINAL-URL:https://bingleystivesgc.com
X-WR-CALDESC:Events for Bingley St Ives Golf Club
REFRESH-INTERVAL;VALUE=DURATION:PT1H
X-Robots-Tag:noindex
X-PUBLISHED-TTL:PT1H
BEGIN:VTIMEZONE
TZID:UTC
BEGIN:STANDARD
TZOFFSETFROM:+0000
TZOFFSETTO:+0000
TZNAME:UTC
DTSTART:20200101T000000
END:STANDARD
END:VTIMEZONE
BEGIN:VEVENT
DTSTART;TZID=UTC:20210312T093000
DTEND;TZID=UTC:20210312T100000
DTSTAMP:20260422T034030
CREATED:20210217T140416Z
LAST-MODIFIED:20210217T140604Z
UID:3281-1615541400-1615543200@bingleystivesgc.com
SUMMARY:Baildon Past Capts Golf Society
DESCRIPTION:12 players tt 9.30am & 12.30pm
URL:https://bingleystivesgc.com/event/baildon-past-capts-golf-society/
CATEGORIES:Golf
END:VEVENT
BEGIN:VEVENT
DTSTART;VALUE=DATE:20210329
DTEND;VALUE=DATE:20210330
DTSTAMP:20260422T034030
CREATED:20210217T140943Z
LAST-MODIFIED:20210320T083118Z
UID:3288-1616976000-1617062399@bingleystivesgc.com
SUMMARY:Course Re-opens to Members
DESCRIPTION:
URL:https://bingleystivesgc.com/event/greens-work-until-9am/
CATEGORIES:Golf
END:VEVENT
END:VCALENDAR