BEGIN:VCALENDAR
VERSION:2.0
PRODID:-//Bingley St Ives Golf Club - ECPv6.15.11//NONSGML v1.0//EN
CALSCALE:GREGORIAN
METHOD:PUBLISH
X-WR-CALNAME:Bingley St Ives Golf Club
X-ORIGINAL-URL:https://bingleystivesgc.com
X-WR-CALDESC:Events for Bingley St Ives Golf Club
REFRESH-INTERVAL;VALUE=DURATION:PT1H
X-Robots-Tag:noindex
X-PUBLISHED-TTL:PT1H
BEGIN:VTIMEZONE
TZID:UTC
BEGIN:STANDARD
TZOFFSETFROM:+0000
TZOFFSETTO:+0000
TZNAME:UTC
DTSTART:20200101T000000
END:STANDARD
END:VTIMEZONE
BEGIN:VEVENT
DTSTART;VALUE=DATE:20211002
DTEND;VALUE=DATE:20211003
DTSTAMP:20260425T105621
CREATED:20210430T152517Z
LAST-MODIFIED:20210430T152517Z
UID:3827-1633132800-1633219199@bingleystivesgc.com
SUMMARY:October Medal & Annual Medal
DESCRIPTION:
URL:https://bingleystivesgc.com/event/october-medal-annual-medal/
CATEGORIES:Golf
END:VEVENT
BEGIN:VEVENT
DTSTART;TZID=UTC:20211004T073000
DTEND;TZID=UTC:20211008T170000
DTSTAMP:20260425T105621
CREATED:20211005T135040Z
LAST-MODIFIED:20211005T135040Z
UID:4109-1633332600-1633712400@bingleystivesgc.com
SUMMARY:Course Maintenance Work - All week
DESCRIPTION:
URL:https://bingleystivesgc.com/event/course-maintenance-work-all-week/
CATEGORIES:Golf
END:VEVENT
BEGIN:VEVENT
DTSTART;TZID=UTC:20211009T120000
DTEND;TZID=UTC:20211009T170000
DTSTAMP:20260425T105621
CREATED:20211005T135347Z
LAST-MODIFIED:20211005T135347Z
UID:4111-1633780800-1633798800@bingleystivesgc.com
SUMMARY:Private event
DESCRIPTION:
URL:https://bingleystivesgc.com/event/private-event/
CATEGORIES:Private Event
END:VEVENT
BEGIN:VEVENT
DTSTART;TZID=UTC:20211011T113000
DTEND;TZID=UTC:20211011T160000
DTSTAMP:20260425T105621
CREATED:20211005T135423Z
LAST-MODIFIED:20211005T135423Z
UID:4113-1633951800-1633968000@bingleystivesgc.com
SUMMARY:Private Funeral
DESCRIPTION:
URL:https://bingleystivesgc.com/event/private-funeral-3/
CATEGORIES:Private Event
END:VEVENT
BEGIN:VEVENT
DTSTART;TZID=UTC:20211012T130000
DTEND;TZID=UTC:20211012T133000
DTSTAMP:20260425T105621
CREATED:20211005T135506Z
LAST-MODIFIED:20211005T135506Z
UID:4115-1634043600-1634045400@bingleystivesgc.com
SUMMARY:VP - Golf
DESCRIPTION:
URL:https://bingleystivesgc.com/event/vp-golf/
CATEGORIES:Golf
END:VEVENT
BEGIN:VEVENT
DTSTART;TZID=UTC:20211012T130000
DTEND;TZID=UTC:20211012T150000
DTSTAMP:20260425T105621
CREATED:20211005T135556Z
LAST-MODIFIED:20211005T135556Z
UID:4117-1634043600-1634050800@bingleystivesgc.com
SUMMARY:Seniors AGM
DESCRIPTION:
URL:https://bingleystivesgc.com/event/seniors-agm/
CATEGORIES:Meeting
END:VEVENT
BEGIN:VEVENT
DTSTART;TZID=UTC:20211013T143000
DTEND;TZID=UTC:20211013T180000
DTSTAMP:20260425T105621
CREATED:20211005T135646Z
LAST-MODIFIED:20211005T135646Z
UID:4119-1634135400-1634148000@bingleystivesgc.com
SUMMARY:Private Funeral
DESCRIPTION:
URL:https://bingleystivesgc.com/event/private-funeral-4/
CATEGORIES:Private Event
END:VEVENT
BEGIN:VEVENT
DTSTART;TZID=UTC:20211015T130000
DTEND;TZID=UTC:20211015T140000
DTSTAMP:20260425T105621
CREATED:20211005T135807Z
LAST-MODIFIED:20211005T135807Z
UID:4123-1634302800-1634306400@bingleystivesgc.com
SUMMARY:VP- Golf
DESCRIPTION:
URL:https://bingleystivesgc.com/event/vp-golf-2/
CATEGORIES:Golf
END:VEVENT
BEGIN:VEVENT
DTSTART;TZID=UTC:20211015T183000
DTEND;TZID=UTC:20211015T233000
DTSTAMP:20260425T105621
CREATED:20211005T135727Z
LAST-MODIFIED:20211005T135727Z
UID:4121-1634322600-1634340600@bingleystivesgc.com
SUMMARY:Dinner
DESCRIPTION:
URL:https://bingleystivesgc.com/event/dinner/
CATEGORIES:Private Event
END:VEVENT
BEGIN:VEVENT
DTSTART;TZID=UTC:20211016T183000
DTEND;TZID=UTC:20211016T233000
DTSTAMP:20260425T105621
CREATED:20211005T135842Z
LAST-MODIFIED:20211005T135842Z
UID:4125-1634409000-1634427000@bingleystivesgc.com
SUMMARY:Private Party
DESCRIPTION:
URL:https://bingleystivesgc.com/event/private-party-29/
CATEGORIES:Private Event
END:VEVENT
BEGIN:VEVENT
DTSTART;TZID=UTC:20211019T103000
DTEND;TZID=UTC:20211019T110000
DTSTAMP:20260425T105621
CREATED:20211005T135927Z
LAST-MODIFIED:20211005T135927Z
UID:4127-1634639400-1634641200@bingleystivesgc.com
SUMMARY:VP - Golf
DESCRIPTION:
URL:https://bingleystivesgc.com/event/vp-golf-3/
CATEGORIES:Golf
END:VEVENT
BEGIN:VEVENT
DTSTART;TZID=UTC:20211021T120000
DTEND;TZID=UTC:20211021T163000
DTSTAMP:20260425T105621
CREATED:20211005T140009Z
LAST-MODIFIED:20211005T140009Z
UID:4129-1634817600-1634833800@bingleystivesgc.com
SUMMARY:Private Lunch
DESCRIPTION:
URL:https://bingleystivesgc.com/event/private-lunch/
CATEGORIES:Private Event
END:VEVENT
BEGIN:VEVENT
DTSTART;TZID=UTC:20211023T123000
DTEND;TZID=UTC:20211023T163000
DTSTAMP:20260425T105621
CREATED:20211005T140056Z
LAST-MODIFIED:20211005T140056Z
UID:4131-1634992200-1635006600@bingleystivesgc.com
SUMMARY:Private Event
DESCRIPTION:
URL:https://bingleystivesgc.com/event/private-event-21/
CATEGORIES:Private Event
END:VEVENT
BEGIN:VEVENT
DTSTART;TZID=UTC:20211023T183000
DTEND;TZID=UTC:20211023T233000
DTSTAMP:20260425T105621
CREATED:20211005T140132Z
LAST-MODIFIED:20211005T140132Z
UID:4133-1635013800-1635031800@bingleystivesgc.com
SUMMARY:Private Event
DESCRIPTION:
URL:https://bingleystivesgc.com/event/private-event-24/
CATEGORIES:Private Event
END:VEVENT
BEGIN:VEVENT
DTSTART;TZID=UTC:20211025T140000
DTEND;TZID=UTC:20211025T180000
DTSTAMP:20260425T105621
CREATED:20211005T140218Z
LAST-MODIFIED:20211005T140218Z
UID:4135-1635170400-1635184800@bingleystivesgc.com
SUMMARY:Private Funeral
DESCRIPTION:
URL:https://bingleystivesgc.com/event/private-funeral-5/
CATEGORIES:Funeral
END:VEVENT
END:VCALENDAR