BEGIN:VCALENDAR
VERSION:2.0
PRODID:-//Bingley St Ives Golf Club - ECPv6.15.11//NONSGML v1.0//EN
CALSCALE:GREGORIAN
METHOD:PUBLISH
X-ORIGINAL-URL:https://bingleystivesgc.com
X-WR-CALDESC:Events for Bingley St Ives Golf Club
REFRESH-INTERVAL;VALUE=DURATION:PT1H
X-Robots-Tag:noindex
X-PUBLISHED-TTL:PT1H
BEGIN:VTIMEZONE
TZID:UTC
BEGIN:STANDARD
TZOFFSETFROM:+0000
TZOFFSETTO:+0000
TZNAME:UTC
DTSTART:20200101T000000
END:STANDARD
END:VTIMEZONE
BEGIN:VEVENT
DTSTART;TZID=UTC:20211203T180000
DTEND;TZID=UTC:20211203T233000
DTSTAMP:20260425T144500
CREATED:20211005T141207Z
LAST-MODIFIED:20211005T141207Z
UID:4163-1638554400-1638574200@bingleystivesgc.com
SUMMARY:Private Xmas Party
DESCRIPTION:
URL:https://bingleystivesgc.com/event/private-xmas-party-2/
CATEGORIES:Private Event
END:VEVENT
BEGIN:VEVENT
DTSTART;TZID=UTC:20211204T123000
DTEND;TZID=UTC:20211204T170000
DTSTAMP:20260425T144500
CREATED:20211005T141244Z
LAST-MODIFIED:20211005T141244Z
UID:4165-1638621000-1638637200@bingleystivesgc.com
SUMMARY:Private Lunch
DESCRIPTION:
URL:https://bingleystivesgc.com/event/private-lunch-4/
CATEGORIES:Private Event
END:VEVENT
BEGIN:VEVENT
DTSTART;TZID=UTC:20211204T190000
DTEND;TZID=UTC:20211204T233000
DTSTAMP:20260425T144500
CREATED:20211110T101638Z
LAST-MODIFIED:20211110T101638Z
UID:4318-1638644400-1638660600@bingleystivesgc.com
SUMMARY:Members Christmas Party
DESCRIPTION:
URL:https://bingleystivesgc.com/event/members-christmas-party-2/
CATEGORIES:Social
END:VEVENT
BEGIN:VEVENT
DTSTART;TZID=UTC:20211207T120000
DTEND;TZID=UTC:20211207T170000
DTSTAMP:20260425T144500
CREATED:20211005T141404Z
LAST-MODIFIED:20211005T141404Z
UID:4169-1638878400-1638896400@bingleystivesgc.com
SUMMARY:Private Lunch
DESCRIPTION:
URL:https://bingleystivesgc.com/event/private-lunch-5/
CATEGORIES:Private Event
END:VEVENT
BEGIN:VEVENT
DTSTART;TZID=UTC:20211207T180000
DTEND;TZID=UTC:20211207T230000
DTSTAMP:20260425T144500
CREATED:20211005T141440Z
LAST-MODIFIED:20211005T141440Z
UID:4171-1638900000-1638918000@bingleystivesgc.com
SUMMARY:Private Event
DESCRIPTION:
URL:https://bingleystivesgc.com/event/private-event-31/
CATEGORIES:Private Event
END:VEVENT
BEGIN:VEVENT
DTSTART;TZID=UTC:20211210T180000
DTEND;TZID=UTC:20211210T233000
DTSTAMP:20260425T144500
CREATED:20211005T141521Z
LAST-MODIFIED:20211005T141521Z
UID:4173-1639159200-1639179000@bingleystivesgc.com
SUMMARY:Ladies Xmas party
DESCRIPTION:
URL:https://bingleystivesgc.com/event/ladies-xmas-party/
CATEGORIES:Private Event
END:VEVENT
BEGIN:VEVENT
DTSTART;TZID=UTC:20211211T180000
DTEND;TZID=UTC:20211211T233000
DTSTAMP:20260425T144500
CREATED:20211005T141600Z
LAST-MODIFIED:20211005T141600Z
UID:4175-1639245600-1639265400@bingleystivesgc.com
SUMMARY:Private Party
DESCRIPTION:
URL:https://bingleystivesgc.com/event/private-party-30/
CATEGORIES:Private Event
END:VEVENT
BEGIN:VEVENT
DTSTART;TZID=UTC:20211217T180000
DTEND;TZID=UTC:20211217T230000
DTSTAMP:20260425T144500
CREATED:20211005T141643Z
LAST-MODIFIED:20211005T141643Z
UID:4177-1639764000-1639782000@bingleystivesgc.com
SUMMARY:Private Party
DESCRIPTION:
URL:https://bingleystivesgc.com/event/private-party-31/
CATEGORIES:Private Event
END:VEVENT
BEGIN:VEVENT
DTSTART;TZID=UTC:20211218T180000
DTEND;TZID=UTC:20211218T233000
DTSTAMP:20260425T144500
CREATED:20211005T141730Z
LAST-MODIFIED:20211005T141730Z
UID:4179-1639850400-1639870200@bingleystivesgc.com
SUMMARY:Members Xmas Party
DESCRIPTION:
URL:https://bingleystivesgc.com/event/members-xmas-party/
CATEGORIES:Social
END:VEVENT
BEGIN:VEVENT
DTSTART;VALUE=DATE:20211225
DTEND;VALUE=DATE:20211226
DTSTAMP:20260425T144500
CREATED:20211005T142011Z
LAST-MODIFIED:20211005T142011Z
UID:4181-1640390400-1640476799@bingleystivesgc.com
SUMMARY:Christmas Day - CLOSED
DESCRIPTION:
URL:https://bingleystivesgc.com/event/christmas-day-closed/
END:VEVENT
BEGIN:VEVENT
DTSTART;VALUE=DATE:20211226
DTEND;VALUE=DATE:20211227
DTSTAMP:20260425T144500
CREATED:20211005T142043Z
LAST-MODIFIED:20211005T142043Z
UID:4183-1640476800-1640563199@bingleystivesgc.com
SUMMARY:Boxing Day - Bar Open - No Catering
DESCRIPTION:
URL:https://bingleystivesgc.com/event/boxing-day-bar-open-no-catering/
END:VEVENT
BEGIN:VEVENT
DTSTART;TZID=UTC:20211226T093000
DTEND;TZID=UTC:20211226T170000
DTSTAMP:20260425T144500
CREATED:20211005T142136Z
LAST-MODIFIED:20211005T142136Z
UID:4185-1640511000-1640538000@bingleystivesgc.com
SUMMARY:Boxing Day Shotgun start 9.00am
DESCRIPTION:
URL:https://bingleystivesgc.com/event/boxing-day-shotgun-start-9-00am/
CATEGORIES:Golf
END:VEVENT
BEGIN:VEVENT
DTSTART;VALUE=DATE:20211227
DTEND;VALUE=DATE:20211228
DTSTAMP:20260425T144500
CREATED:20211110T102443Z
LAST-MODIFIED:20211110T102443Z
UID:4320-1640563200-1640649599@bingleystivesgc.com
SUMMARY:Bar & Catering CLOSED
DESCRIPTION:
URL:https://bingleystivesgc.com/event/bar-catering-closed/
CATEGORIES:Golf
END:VEVENT
END:VCALENDAR