BEGIN:VCALENDAR
VERSION:2.0
PRODID:-//Bingley St Ives Golf Club - ECPv6.15.11//NONSGML v1.0//EN
CALSCALE:GREGORIAN
METHOD:PUBLISH
X-ORIGINAL-URL:https://bingleystivesgc.com
X-WR-CALDESC:Events for Bingley St Ives Golf Club
REFRESH-INTERVAL;VALUE=DURATION:PT1H
X-Robots-Tag:noindex
X-PUBLISHED-TTL:PT1H
BEGIN:VTIMEZONE
TZID:UTC
BEGIN:STANDARD
TZOFFSETFROM:+0000
TZOFFSETTO:+0000
TZNAME:UTC
DTSTART:20210101T000000
END:STANDARD
END:VTIMEZONE
BEGIN:VEVENT
DTSTART;VALUE=DATE:20220405
DTEND;VALUE=DATE:20220406
DTSTAMP:20260423T095137
CREATED:20220107T111621Z
LAST-MODIFIED:20220107T111621Z
UID:4390-1649116800-1649203199@bingleystivesgc.com
SUMMARY:Buck Rabbit
DESCRIPTION:Buck Rabbit Comp starts – 12 holes
URL:https://bingleystivesgc.com/event/buck-rabbit-7/
CATEGORIES:Golf
END:VEVENT
END:VCALENDAR