BEGIN:VCALENDAR
VERSION:2.0
PRODID:-//Bingley St Ives Golf Club - ECPv6.15.11//NONSGML v1.0//EN
CALSCALE:GREGORIAN
METHOD:PUBLISH
X-ORIGINAL-URL:https://bingleystivesgc.com
X-WR-CALDESC:Events for Bingley St Ives Golf Club
REFRESH-INTERVAL;VALUE=DURATION:PT1H
X-Robots-Tag:noindex
X-PUBLISHED-TTL:PT1H
BEGIN:VTIMEZONE
TZID:UTC
BEGIN:STANDARD
TZOFFSETFROM:+0000
TZOFFSETTO:+0000
TZNAME:UTC
DTSTART:20220101T000000
END:STANDARD
END:VTIMEZONE
BEGIN:VEVENT
DTSTART;TZID=UTC:20230630T170000
DTEND;TZID=UTC:20230630T170000
DTSTAMP:20260421T074716
CREATED:20221118T080752Z
LAST-MODIFIED:20221118T080752Z
UID:5736-1688144400-1688144400@bingleystivesgc.com
SUMMARY:8-15 Team v East Morton - 5pm
DESCRIPTION:Home Match
URL:https://bingleystivesgc.com/event/8-15-team-v-east-morton-5pm/
CATEGORIES:Golf
END:VEVENT
END:VCALENDAR